BEGIN:VCALENDAR
VERSION:2.0
PRODID:-//SINch - ECPv6.15.20//NONSGML v1.0//EN
CALSCALE:GREGORIAN
METHOD:PUBLISH
X-WR-CALNAME:SINch
X-ORIGINAL-URL:https://sinch.it
X-WR-CALDESC:Eventi per SINch
REFRESH-INTERVAL;VALUE=DURATION:PT1H
X-Robots-Tag:noindex
X-PUBLISHED-TTL:PT1H
BEGIN:VTIMEZONE
TZID:Europe/Rome
BEGIN:DAYLIGHT
TZOFFSETFROM:+0100
TZOFFSETTO:+0200
TZNAME:CEST
DTSTART:20220327T010000
END:DAYLIGHT
BEGIN:STANDARD
TZOFFSETFROM:+0200
TZOFFSETTO:+0100
TZNAME:CET
DTSTART:20221030T010000
END:STANDARD
BEGIN:DAYLIGHT
TZOFFSETFROM:+0100
TZOFFSETTO:+0200
TZNAME:CEST
DTSTART:20230326T010000
END:DAYLIGHT
BEGIN:STANDARD
TZOFFSETFROM:+0200
TZOFFSETTO:+0100
TZNAME:CET
DTSTART:20231029T010000
END:STANDARD
BEGIN:DAYLIGHT
TZOFFSETFROM:+0100
TZOFFSETTO:+0200
TZNAME:CEST
DTSTART:20240331T010000
END:DAYLIGHT
BEGIN:STANDARD
TZOFFSETFROM:+0200
TZOFFSETTO:+0100
TZNAME:CET
DTSTART:20241027T010000
END:STANDARD
BEGIN:DAYLIGHT
TZOFFSETFROM:+0100
TZOFFSETTO:+0200
TZNAME:CEST
DTSTART:20250330T010000
END:DAYLIGHT
BEGIN:STANDARD
TZOFFSETFROM:+0200
TZOFFSETTO:+0100
TZNAME:CET
DTSTART:20251026T010000
END:STANDARD
END:VTIMEZONE
BEGIN:VEVENT
DTSTART;TZID=Europe/Rome:20240315T113000
DTEND;TZID=Europe/Rome:20240316T173000
DTSTAMP:20260419T151729
CREATED:20240110T120359Z
LAST-MODIFIED:20240111T082610Z
UID:18677-1710502200-1710610200@sinch.it
SUMMARY:F.A.S.T. AND CURIOUS IN NEUROONCOLOGY: FUTURE ADVANTAGES IN SURGICAL TREATMENTS
DESCRIPTION:SEDE CONGRESSUALEArcispedale di Reggio EmiliaVia Risorgimento\, 80Reggio Emilia \n\n\n\nINFORMAZIONI GENERALILa partecipazione al Congresso è gratuita previo versamento di una caparra a conferma della partecipazione di 50\,00 € che verrà restituita a seguito della verifica della effettiva partecipazione all’evento. Sarà possibile iscriversi utilizzando la piattaforma online presente sul sito dell’evento a partire dal 15 gennaio 2024.
URL:https://sinch.it/eventi/f-a-s-t-and-curious-in-neurooncology-future-advantages-in-surgical-treatments/
LOCATION:Arcispedale di Reggio Emilia\, Viale Risorgimento\, 80\, Reggio Emilia\, Italia\, 42123\, Italia
CATEGORIES:Neuro-Oncologia
ATTACH;FMTTYPE=image/jpeg:https://sinch.it/wp-content/uploads/2024/01/M02-BANNER-def.jpg
END:VEVENT
BEGIN:VEVENT
DTSTART;TZID=Europe/Rome:20231012T100000
DTEND;TZID=Europe/Rome:20231014T150000
DTSTAMP:20260419T151729
CREATED:20230719T102616Z
LAST-MODIFIED:20230719T112117Z
UID:16535-1697104800-1697295600@sinch.it
SUMMARY:72° Congresso Nazionale\, Padova 12-14 Ottobre 2023
DESCRIPTION:Tutte le informazioni riguardanti il 72° Congresso Nazionale SINch sono disponibili sul sito dedicato alla pagina https://www.sinch2023.it
URL:https://sinch.it/eventi/72-congresso-nazionale-sinch-padova-12-14-ottobre-2023/
LOCATION:Padova Hall\, Centro Congressi Padova\, Via N. Tommaseo 59\, Padova\, Italia\, 35131\, Italia
CATEGORIES:Chirurgia dei Nervi Periferici,Giovani,Neuro-Oncologia,NeuroAnatomia,Neurochirurgia Funzionale,Neurochirurgia Pediatrica,Neuroendoscopia,NeuroRadiochirurgia,NeuroTraumatologia,Spinale,Vascolare
ATTACH;FMTTYPE=image/jpeg:https://sinch.it/wp-content/uploads/2023/06/Banner_SINch_72_1-4Low.jpg
END:VEVENT
BEGIN:VEVENT
DTSTART;TZID=Europe/Rome:20230511T083000
DTEND;TZID=Europe/Rome:20230511T180000
DTSTAMP:20260419T151729
CREATED:20230405T161320Z
LAST-MODIFIED:20230411T141249Z
UID:11493-1683793800-1683828000@sinch.it
SUMMARY:Tumori cerebrali a lento accrescimento nel paziente “fragile”: le opzioni terapeutiche in mano al neurochirurgo
DESCRIPTION:Sede Congressuale \nAula Magna – ASST Grande Ospedale Metropolitano Niguarda\, Milano \nObiettivi  \nCreare un rapporto di interconnessione tra le varie discipline di neurochirurgia e neurologia\, oltre che a prevedere la condivisione di argomenti comuni anche alle discipline di Neuroradiologia\, Anestesia e Rianimazione\, Medicina Interna\, Endocrinologia\, Fisiatria\, Medicina d’Urgenza\, Radiologia\, Radioterapia\, Oncologia\, Otorinolaringoiatria. \nNel dettaglio i topics del meeting saranno: \n– lo schwannoma dell’8° nervo cranico nel paziente fragile – lo stato dell’arte– l’adenoma ipofisario nel paziente fragile – lo stato dell’arte– il meningioma cerebrale nel paziente fragile – lo stato dell’arte \nDestinatari \nIl Meeting è indirizzato ai Medici Chirurghi delle seguenti discipline: Neurochirurgia\, Neurologia\, Neuroradiologia\, Anestesia e Rianimazione\, Medicina Interna\, Endocrinologia\, Fisiatria\, Medicina d’Urgenza\, Radiologia\, Radioterapia\, Oncologia\, Otorinolaringoiatria. \nVAI AL SITO DELL’EVENTO PER TUTTE LE ULTERIORI INFORMAZIONI
URL:https://sinch.it/eventi/tumori-cerebrali-a-lento-accrescimento-nel-paziente-fragile-le-opzioni-terapeutiche-in-mano-al-neurochirurgo/
LOCATION:Piazza Ospedale Maggiore 3 Milano 20162 – Milano (MI)\, Piazza Ospedale Maggiore 3\, Milano (MI)\, 20162\, Italia
CATEGORIES:Neuro-Oncologia
ATTACH;FMTTYPE=image/jpeg:https://sinch.it/wp-content/uploads/2023/04/1678293186_l07-banner-def.jpg
END:VEVENT
END:VCALENDAR